BEGIN:VCALENDAR
VERSION:2.0
PRODID:-//Bicychouette - ECPv6.15.20//NONSGML v1.0//EN
CALSCALE:GREGORIAN
METHOD:PUBLISH
X-ORIGINAL-URL:https://bicychouette.fr
X-WR-CALDESC:Évènements pour Bicychouette
REFRESH-INTERVAL;VALUE=DURATION:PT1H
X-Robots-Tag:noindex
X-PUBLISHED-TTL:PT1H
BEGIN:VTIMEZONE
TZID:Europe/Paris
BEGIN:DAYLIGHT
TZOFFSETFROM:+0100
TZOFFSETTO:+0200
TZNAME:CEST
DTSTART:20240331T010000
END:DAYLIGHT
BEGIN:STANDARD
TZOFFSETFROM:+0200
TZOFFSETTO:+0100
TZNAME:CET
DTSTART:20241027T010000
END:STANDARD
BEGIN:DAYLIGHT
TZOFFSETFROM:+0100
TZOFFSETTO:+0200
TZNAME:CEST
DTSTART:20250330T010000
END:DAYLIGHT
BEGIN:STANDARD
TZOFFSETFROM:+0200
TZOFFSETTO:+0100
TZNAME:CET
DTSTART:20251026T010000
END:STANDARD
BEGIN:DAYLIGHT
TZOFFSETFROM:+0100
TZOFFSETTO:+0200
TZNAME:CEST
DTSTART:20260329T010000
END:DAYLIGHT
BEGIN:STANDARD
TZOFFSETFROM:+0200
TZOFFSETTO:+0100
TZNAME:CET
DTSTART:20261025T010000
END:STANDARD
END:VTIMEZONE
BEGIN:VEVENT
DTSTART;TZID=Europe/Paris:20250621T160000
DTEND;TZID=Europe/Paris:20250621T180000
DTSTAMP:20260419T144542
CREATED:20250512T054125Z
LAST-MODIFIED:20250620T063016Z
UID:1061-1750521600-1750528800@bicychouette.fr
SUMMARY:Vélorution #23
DESCRIPTION:Supprimons les barrières (en musique)
URL:https://bicychouette.fr/evenement/velorution-23/
LOCATION:Mairie Issenheim
END:VEVENT
BEGIN:VEVENT
DTSTART;TZID=Europe/Paris:20250602T183000
DTEND;TZID=Europe/Paris:20250602T210000
DTSTAMP:20260419T144542
CREATED:20250512T050450Z
LAST-MODIFIED:20250512T050500Z
UID:1056-1748889000-1748898000@bicychouette.fr
SUMMARY:Réunion Bicychouette
DESCRIPTION:
URL:https://bicychouette.fr/evenement/reunion-bicychouette-3/
LOCATION:Patrice\, Guebwiller
END:VEVENT
BEGIN:VEVENT
DTSTART;TZID=Europe/Paris:20250517T110000
DTEND;TZID=Europe/Paris:20250517T120000
DTSTAMP:20260419T144542
CREATED:20250512T051206Z
LAST-MODIFIED:20250512T051300Z
UID:1059-1747479600-1747483200@bicychouette.fr
SUMMARY:Séance de vélo école pour petits et grands
DESCRIPTION:
URL:https://bicychouette.fr/evenement/seance-de-velo-ecole-pour-petits-et-grands/
LOCATION:École Storck\, Guebwiller\, 68500\, France
END:VEVENT
BEGIN:VEVENT
DTSTART;TZID=Europe/Paris:20250407T190000
DTEND;TZID=Europe/Paris:20250407T210000
DTSTAMP:20260419T144542
CREATED:20250310T124457Z
LAST-MODIFIED:20250310T124457Z
UID:993-1744052400-1744059600@bicychouette.fr
SUMMARY:Réunion Bicychouette
DESCRIPTION:
URL:https://bicychouette.fr/evenement/reunion-bicychouette-2/
LOCATION:François\, 11 rue de l'abbé Thomas\, Guebwiller\, 68500
END:VEVENT
BEGIN:VEVENT
DTSTART;TZID=Europe/Paris:20250329T093000
DTEND;TZID=Europe/Paris:20250329T120000
DTSTAMP:20260419T144542
CREATED:20250118T145804Z
LAST-MODIFIED:20250211T172240Z
UID:826-1743240600-1743249600@bicychouette.fr
SUMMARY:Vélorution #22
DESCRIPTION:Rdv devant la mairie de Guebwiller à 9h30; arrivée à Lautenbach vers 12h
URL:https://bicychouette.fr/evenement/velorution-22/
END:VEVENT
BEGIN:VEVENT
DTSTART;TZID=Europe/Paris:20250303T190000
DTEND;TZID=Europe/Paris:20250303T210000
DTSTAMP:20260419T144542
CREATED:20250211T172044Z
LAST-MODIFIED:20250211T172044Z
UID:970-1741028400-1741035600@bicychouette.fr
SUMMARY:Réunion mensuelle Bicychouette
DESCRIPTION:
URL:https://bicychouette.fr/evenement/reunion-mensuelle-bicychouette/
END:VEVENT
BEGIN:VEVENT
DTSTART;TZID=Europe/Paris:20250228T080000
DTEND;TZID=Europe/Paris:20250602T170000
DTSTAMP:20260419T144542
CREATED:20250127T133532Z
LAST-MODIFIED:20250127T133532Z
UID:868-1740729600-1748883600@bicychouette.fr
SUMMARY:Baromètre vélo
DESCRIPTION:Démarrage de la campagne du Baromètre vélo de la FUB.\nClôture le 2 juin.\nNous sommes toustes invité.es à donner notre avis sur les aménagements cyclables de nos communes.
URL:https://bicychouette.fr/evenement/barometre-velo/
END:VEVENT
BEGIN:VEVENT
DTSTART;TZID=Europe/Paris:20250205T190000
DTEND;TZID=Europe/Paris:20250205T213000
DTSTAMP:20260419T144542
CREATED:20250118T100543Z
LAST-MODIFIED:20250118T163754Z
UID:815-1738782000-1738791000@bicychouette.fr
SUMMARY:Réunion Bicychouette
DESCRIPTION:Réunion mensuelle de l’association Bicychouette
URL:https://bicychouette.fr/evenement/reunion-bicychouette/
LOCATION:Atelier Roue Pèt’\, 13 rue des Alliés\, Guebwiller\, 68500\, France
END:VEVENT
BEGIN:VEVENT
DTSTART;TZID=Europe/Paris:20250125T110000
DTEND;TZID=Europe/Paris:20250125T120000
DTSTAMP:20260419T144542
CREATED:20250118T164112Z
LAST-MODIFIED:20250118T164112Z
UID:844-1737802800-1737806400@bicychouette.fr
SUMMARY:Vélo École Guebwiller
DESCRIPTION:Séance de vélo école dans la cour de l’école Storck à Guebwiller
URL:https://bicychouette.fr/evenement/velo-ecole-guebwiller/
LOCATION:École Storck\, Guebwiller\, 68500\, France
END:VEVENT
BEGIN:VEVENT
DTSTART;TZID=Europe/Paris:20250125T093000
DTEND;TZID=Europe/Paris:20250125T103000
DTSTAMP:20260419T144542
CREATED:20250118T164419Z
LAST-MODIFIED:20250118T164811Z
UID:847-1737797400-1737801000@bicychouette.fr
SUMMARY:Vélo École Soultz
DESCRIPTION:Séance de vélo école dans la cour de l’école Krafft à Soultz; atelier gratuit pour les habitants de Soultz (prise en charge par la ville)
URL:https://bicychouette.fr/evenement/velo-ecole-soultz/
LOCATION:École Krafft\, Soultz\, 68500\, France
END:VEVENT
END:VCALENDAR